BEGIN:VCALENDAR
VERSION:2.0
PRODID:Imitheme.com 
BEGIN:VEVENT
UID:20260420T1022131654355624
DTSTAMP;TZID=UTC:20260420T102213
DTSTART;TZID=UTC:20260729T102200
DTEND;TZID=UTC:20260729T102200
SUMMARY:Volle Maan Meditatie Beoefeningen
LOCATION:
DESCRIPTION:De start van het Tibetaanse Nieuwjaar in februari 2026 (Jaar van het Vuurpaard) markeert het begin van een jaarlange cyclus van 24 uur durende Volle Maan-oefeningen. Dit is het zevende achtereenvolgende jaar dat we deze traditie voortzetten. Elke maand als de maan vol wordt\, stellen we onze virtuele meditatieruimte open...
END:VEVENT
END:VCALENDAR
