BEGIN:VCALENDAR
VERSION:2.0
PRODID:Imitheme.com 
BEGIN:VEVENT
UID:20260421T092710804678872
DTSTAMP;TZID=UTC:20260421T092710
DTSTART;TZID=UTC:20250611T092700
DTEND;TZID=UTC:20250611T092700
SUMMARY:Online retraite\: De stralende geest - de vijfvoudige leringen van Dawa Gyaltsen
LOCATION:
DESCRIPTION:Online retraite\: De stralende geest - de vijfvoudige leringen van Dawa Gyaltsen 8 t/m 10 april 2022 met Tenzin Wangyal Rinpoche De kern van de Dzogchen-leringen is de opvatting dat alle levende wezens oorspronkelijk zuiver en perfect zijn en het potentieel hebben om zich spontaan op een heilzame manier te...
END:VEVENT
END:VCALENDAR
