BEGIN:VCALENDAR
VERSION:2.0
PRODID:Imitheme.com 
BEGIN:VEVENT
UID:20260421T092700879987864
DTSTAMP;TZID=UTC:20260421T092700
DTSTART;TZID=UTC:20250611T092700
DTEND;TZID=UTC:20250611T092700
SUMMARY:Online Sherap Chamma Seminar met Marcy Vaughn
LOCATION:
DESCRIPTION:Van 11 tot 13 maart 2022 is er online een Sherap Chamma retraite. Door alle onzekerheden en corona maatregelen in deze tijd\, hebben we besloten om de jaarlijkse retraite in de Pauenhof niet door te laten gaan. Maar we willen wel graag de verbinding met elkaar en Marcy Vaughn -...
END:VEVENT
END:VCALENDAR
