BEGIN:VCALENDAR
VERSION:2.0
PRODID:Imitheme.com 
BEGIN:VEVENT
UID:20260422T102225629032611
DTSTAMP;TZID=UTC:20260422T102225
DTSTART;TZID=UTC:20250611T102200
DTEND;TZID=UTC:20250611T102200
SUMMARY:Online retraite\: Dru Gyalwai Chag Tri\: Teaching on the Fruit – Part 1
LOCATION:
DESCRIPTION:Dru Gyalwai Chag Tri\: Onderricht over de Vrucht\, deel 1 De ervaringsgerichte overdracht van Dru Gyalwa Yungdrung 2-3 oktober 2021 Deze 3 delige retraite wordt georganiseerd door Ligmincha Texas en gegeven door Gesche Denma Gyaltsen. De data van deel 2 en 3 zijn 6-7 november en 4-5 december 2021 Informatie...
END:VEVENT
END:VCALENDAR
