BEGIN:VCALENDAR
VERSION:2.0
PRODID:Imitheme.com 
BEGIN:VEVENT
UID:20260421T092552685204098
DTSTAMP;TZID=UTC:20260421T092552
DTSTART;TZID=UTC:20250611T092500
DTEND;TZID=UTC:20250611T092500
SUMMARY:Rainbow Phowa & Lightning Flash Bardo Onderricht Deel 3
LOCATION:
DESCRIPTION:20 februari 2021 Rainbow Phowa &amp\; Lightning Flash Bardo Onderricht Deel 3 met Geshe Denma Gyaltsen In deze eendaagse retraite zal Geshe Denma Gyaltsen The Lightning Flash of the Dzögchen View Bardo thangka nader toelichten. We zullen samen de Rainbow Phöwa beoefenen en hebben tijd om onze ervaringen te delen van...
END:VEVENT
END:VCALENDAR
