BEGIN:VCALENDAR
VERSION:2.0
PRODID:Imitheme.com 
BEGIN:VEVENT
UID:20260420T1019531735285620
DTSTAMP;TZID=UTC:20260420T101953
DTSTART;TZID=UTC:20250611T101900
DTEND;TZID=UTC:20250611T101900
SUMMARY:Spirituele Verhalen uit Zhang Zhung met Lishu leraren
LOCATION:
DESCRIPTION:Spirituele Verhalen uit Zhang Zhung met Lishu leraren Geshe Sherap Lodoe en Dr. Sangmo Yangri In de Bön Traditie zijn spirituele verhalen een zeer traditionele vorm van lesgeven en het inspireert toegewijden en beoefenaars om hun geloof en toewijding in de Dharmaleer te ontwikkelen en te versterken. Over de volgende...
END:VEVENT
END:VCALENDAR
