BEGIN:VCALENDAR
VERSION:2.0
PRODID:Imitheme.com 
BEGIN:VEVENT
UID:20260419T1547381730022146
DTSTAMP;TZID=UTC:20260419T154738
DTSTART;TZID=UTC:20250611T154700
DTEND;TZID=UTC:20250611T154700
SUMMARY:The Body of Light - online retraite
LOCATION:
DESCRIPTION:
END:VEVENT
END:VCALENDAR
