BEGIN:VCALENDAR
VERSION:2.0
PRODID:Imitheme.com 
BEGIN:VEVENT
UID:20260420T113844887908465
DTSTAMP;TZID=UTC:20260420T113844
DTSTART;TZID=UTC:20250611T113800
DTEND;TZID=UTC:20250611T113800
SUMMARY:Sherap Chamma retraite-voorjaar 2020
LOCATION:
DESCRIPTION:Van 6 t/m 11 maart 2020 begeleidt Marcy Vaughn in de Pauenhof (Sonsbeck-Hamb\, Duitsland) opnieuw de helende beoefening van Sherap Chamma en Sipé Gyalmo. Het is mogelijk om alleen aan het weekend deel te nemen. De helende beoefening van Sipé Gyalmo wordt alleen ná het weekend gedaan. Deze retraite wordt...
END:VEVENT
END:VCALENDAR
