BEGIN:VCALENDAR
VERSION:2.0
PRODID:Imitheme.com 
BEGIN:VEVENT
UID:20260423T1005422085445420
DTSTAMP;TZID=UTC:20260423T100542
DTSTART;TZID=UTC:20230414T100500
DTEND;TZID=UTC:20230414T100500
SUMMARY:Meditatiegroep Utrecht
LOCATION:
DESCRIPTION:Vanaf september geven we binnen de meditatiegroep Utrecht een korte thematische meditatiecursus\, van in totaal 7 bijeenkomsten. De cursus is open voor iedereen en is een combinatie van 4 fysieke en 3 online bijeenkomsten. Thema\: heling en transformatie van emoties De beoefening van de Zes Loka’s 12 september – 5...
END:VEVENT
END:VCALENDAR
