BEGIN:VCALENDAR
VERSION:2.0
PRODID:Imitheme.com 
BEGIN:VEVENT
UID:20260425T214452251127068
DTSTAMP;TZID=UTC:20260425T214452
DTSTART;TZID=UTC:20230307T214400
DTEND;TZID=UTC:20230307T214400
SUMMARY:Volle Maan Meditatie beoefening
LOCATION:
DESCRIPTION:Eerstvolgende volle maan\: 1 en 2 mei 2026 De start van het Tibetaanse Nieuwjaar in februari 2026 (Jaar van het Vuurpaard) markeert het begin van een jaarlange cyclus van 24 uur durende Volle Maan-oefeningen. Dit is het zevende achtereenvolgende jaar dat we deze traditie voortzetten. Elke maand als de maan...
END:VEVENT
END:VCALENDAR
