BEGIN:VCALENDAR
VERSION:2.0
PRODID:Imitheme.com 
BEGIN:VEVENT
UID:20260422T0737591718531128
DTSTAMP;TZID=UTC:20260422T073759
DTSTART;TZID=UTC:20230209T073700
DTEND;TZID=UTC:20230209T073700
SUMMARY:Doorgaande groep - Zoetermeer
LOCATION:
DESCRIPTION:Groep Meditatieve Yoga\: elke donderdagavond\, 19.30 tot 20.45\, behalve in de schoolvakanties. Begeleidster\: Ewalda Buiting Telefoon\: 06 245 268 39\, ook voor afmelding Website\: zoetermeerwijzer.nl (zoekterm Gom-khang) E-Mail 1\: gom-khang@ziggo.nl E-Mail 2\: zuid-holland@ligmincha.nl Facebook\: Ligmincha Zuid Holland Instagram\: Ligmincha Zuid Holland Rekeningnummer\: NL56 INGB 0006 2885 89 t.n.v. Ligmincha Nederland Inschrijven\:  zuid-holland@ligmincha.nl
END:VEVENT
END:VCALENDAR
