BEGIN:VCALENDAR
VERSION:2.0
PRODID:Imitheme.com 
BEGIN:VEVENT
UID:20260422T180407517541769
DTSTAMP;TZID=UTC:20260422T180407
DTSTART;TZID=UTC:20211201T180400
DTEND;TZID=UTC:20211201T180400
SUMMARY:Meditatie in de Bön traditie -- Zoetermeer
LOCATION:
DESCRIPTION:Op woensdag\, van 19.30 - 20.45 uur Data\: vanaf 22 september 2021 12 lessen\: € 98\,- Inschrijven\: zuidholland@ligmincha.nl Voor meer info\: 079-351 34 80 &nbsp\;
END:VEVENT
END:VCALENDAR
