BEGIN:VCALENDAR
VERSION:2.0
PRODID:Imitheme.com 
BEGIN:VEVENT
UID:20260420T114229796741152
DTSTAMP;TZID=UTC:20260420T114229
DTSTART;TZID=UTC:20200402T114200
DTEND;TZID=UTC:20200402T114200
SUMMARY:Online\: De basis van Tibetaanse meditatie.
LOCATION:
DESCRIPTION:Vijf meditatie bijeenkomsten online met methodes die al eeuwenlang gebruikt worden. Zo kun je een rustpunt vinden in jezelf\, ook wanneer het leven hectisch of moeilijk is. De cursus is voorzien van materiaal dat je toegestuurd krijgt. Op donderdagavond van 19\:00 - 20\:00 uur. Data\: 2 en 18 april\, 4...
END:VEVENT
END:VCALENDAR
