BEGIN:VCALENDAR
VERSION:2.0
PRODID:Imitheme.com
BEGIN:VEVENT
UID:20260420T101554-725298806
DTSTAMP:20260420T101554
DTSTART:20250611T101500
DTEND:20250611T101500
SUMMARY:'De stralende geest' - huiskamerbijeenkomsten
LOCATION:
DESCRIPTION: In februari beginnen we met een serie huiskamerbijeenkomsten in Utrecht. In een kleine groep bespreken we het boek 'De stralende geest' van Tenzin Wangyal Rinpoche. We gebruiken de Nederlandse vertaling. In de bijeenkomsten staat de verbinding tussen de tekst en jouw ervaring centraal. Wat betekent het voor jou en hoe...
END:VEVENT
END:VCALENDAR
