BEGIN:VCALENDAR
VERSION:2.0
PRODID:Imitheme.com
BEGIN:VEVENT
UID:20260423T100442-1406779368
DTSTAMP:20260423T100442
DTSTART:20250611T100400
DTEND:20250611T100400
SUMMARY:Omgaan met stress - Zoetermeer
LOCATION:
DESCRIPTION: Korte cursus van 5 bijeenkomsten, waarin je leert stress te transformeren in ontspannen aanwezig zijn aan de hand van eenvoudige technieken gebaseerd op de Tibetaanse Bön traditie. zuidholland@ligmincha.nl
END:VEVENT
END:VCALENDAR
