BEGIN:VCALENDAR
VERSION:2.0
PRODID:Imitheme.com
BEGIN:VEVENT
UID:20260422T061605-1032395686
DTSTAMP:20260422T061605
DTSTART:20191219T061600
DTEND:20191219T061600
SUMMARY:Oefengroep Zoetermeer
LOCATION:
DESCRIPTION: 
END:VEVENT
END:VCALENDAR
