BEGIN:VCALENDAR
VERSION:2.0
PRODID:Imitheme.com
BEGIN:VEVENT
UID:20260422T102039-684009682
DTSTAMP:20260422T102039
DTSTART:20191118T102000
DTEND:20191118T102000
SUMMARY:Tibetaanse online A-Tri
LOCATION:
DESCRIPTION: Tibetaanse on-line A Tri.  Het oefenen met en delen over de cyclus van de A-Tri gaat verder. We starten weer bij de beginoefeningen en verdiepen het daarmee in onszelf. 2x per maand op maandagavond.  Je kunt per keer meedoen. Online. Data: 20 september, 4 en 18 oktober, 1, 15 en...
END:VEVENT
END:VCALENDAR
